BEGIN:VCALENDAR
VERSION:2.0
PRODID:-//Aktionskreis aktives Niedermittlau e.V. - ECPv6.15.20//NONSGML v1.0//EN
CALSCALE:GREGORIAN
METHOD:PUBLISH
X-ORIGINAL-URL:https://alteschule-hasselroth.de
X-WR-CALDESC:Veranstaltungen für Aktionskreis aktives Niedermittlau e.V.
REFRESH-INTERVAL;VALUE=DURATION:PT1H
X-Robots-Tag:noindex
X-PUBLISHED-TTL:PT1H
BEGIN:VTIMEZONE
TZID:Europe/Berlin
BEGIN:DAYLIGHT
TZOFFSETFROM:+0100
TZOFFSETTO:+0200
TZNAME:CEST
DTSTART:20250330T010000
END:DAYLIGHT
BEGIN:STANDARD
TZOFFSETFROM:+0200
TZOFFSETTO:+0100
TZNAME:CET
DTSTART:20251026T010000
END:STANDARD
BEGIN:DAYLIGHT
TZOFFSETFROM:+0100
TZOFFSETTO:+0200
TZNAME:CEST
DTSTART:20260329T010000
END:DAYLIGHT
BEGIN:STANDARD
TZOFFSETFROM:+0200
TZOFFSETTO:+0100
TZNAME:CET
DTSTART:20261025T010000
END:STANDARD
BEGIN:DAYLIGHT
TZOFFSETFROM:+0100
TZOFFSETTO:+0200
TZNAME:CEST
DTSTART:20270328T010000
END:DAYLIGHT
BEGIN:STANDARD
TZOFFSETFROM:+0200
TZOFFSETTO:+0100
TZNAME:CET
DTSTART:20271031T010000
END:STANDARD
END:VTIMEZONE
BEGIN:VEVENT
DTSTART;TZID=Europe/Berlin:20260428T153000
DTEND;TZID=Europe/Berlin:20260428T163000
DTSTAMP:20260421T103828
CREATED:20260201T230601Z
LAST-MODIFIED:20260201T230601Z
UID:10009677-1777390200-1777393800@alteschule-hasselroth.de
SUMMARY:Landfrauen\, Stricken u. Häkeln
DESCRIPTION:
URL:https://alteschule-hasselroth.de/event/landfrauen-stricken-u-haekeln-6/
LOCATION:Alte Schule\, Alte Dorfstraße 66\, Hasselroth\, Hessen\, 63594\, Germany
CATEGORIES:Hasselroth
END:VEVENT
BEGIN:VEVENT
DTSTART;TZID=Europe/Berlin:20260428T180000
DTEND;TZID=Europe/Berlin:20260428T210000
DTSTAMP:20260421T103828
CREATED:20250902T123140Z
LAST-MODIFIED:20250902T123140Z
UID:10006462-1777399200-1777410000@alteschule-hasselroth.de
SUMMARY:Landfrauen
DESCRIPTION:
URL:https://alteschule-hasselroth.de/event/landfrauen-16/
LOCATION:Alte Schule\, Alte Dorfstraße 66\, Hasselroth\, Hessen\, 63594\, Germany
CATEGORIES:Hasselroth
END:VEVENT
BEGIN:VEVENT
DTSTART;TZID=Europe/Berlin:20260428T180000
DTEND;TZID=Europe/Berlin:20260428T210000
DTSTAMP:20260421T103828
CREATED:20250902T123236Z
LAST-MODIFIED:20250902T123236Z
UID:10006463-1777399200-1777410000@alteschule-hasselroth.de
SUMMARY:Landfrauen
DESCRIPTION:
URL:https://alteschule-hasselroth.de/event/landfrauen-17/
LOCATION:Alte Schule\, Alte Dorfstraße 66\, Hasselroth\, Hessen\, 63594\, Germany
CATEGORIES:Niedermittlau
END:VEVENT
BEGIN:VEVENT
DTSTART;TZID=Europe/Berlin:20260519T153000
DTEND;TZID=Europe/Berlin:20260519T163000
DTSTAMP:20260421T103828
CREATED:20260201T230934Z
LAST-MODIFIED:20260201T230934Z
UID:10009678-1779204600-1779208200@alteschule-hasselroth.de
SUMMARY:Landfrauen\, Stricken u. Häkeln
DESCRIPTION:
URL:https://alteschule-hasselroth.de/event/landfrauen-stricken-u-haekeln-7/
LOCATION:Alte Schule\, Alte Dorfstraße 66\, Hasselroth\, Hessen\, 63594\, Germany
CATEGORIES:Hasselroth
END:VEVENT
BEGIN:VEVENT
DTSTART;TZID=Europe/Berlin:20260519T180000
DTEND;TZID=Europe/Berlin:20260519T210000
DTSTAMP:20260421T103828
CREATED:20250902T123603Z
LAST-MODIFIED:20250902T123603Z
UID:10006464-1779213600-1779224400@alteschule-hasselroth.de
SUMMARY:Landfrauen
DESCRIPTION:
URL:https://alteschule-hasselroth.de/event/landfrauen-18/
LOCATION:Alte Schule\, Alte Dorfstraße 66\, Hasselroth\, Hessen\, 63594\, Germany
CATEGORIES:Hasselroth
END:VEVENT
BEGIN:VEVENT
DTSTART;TZID=Europe/Berlin:20260519T180000
DTEND;TZID=Europe/Berlin:20260519T210000
DTSTAMP:20260421T103828
CREATED:20250902T123656Z
LAST-MODIFIED:20250902T123656Z
UID:10006465-1779213600-1779224400@alteschule-hasselroth.de
SUMMARY:Landfrauen
DESCRIPTION:
URL:https://alteschule-hasselroth.de/event/landfrauen-19/
LOCATION:Alte Schule\, Alte Dorfstraße 66\, Hasselroth\, Hessen\, 63594\, Germany
CATEGORIES:Niedermittlau
END:VEVENT
BEGIN:VEVENT
DTSTART;TZID=Europe/Berlin:20260602T180000
DTEND;TZID=Europe/Berlin:20260602T210000
DTSTAMP:20260421T103828
CREATED:20250902T123928Z
LAST-MODIFIED:20250902T123928Z
UID:10006466-1780423200-1780434000@alteschule-hasselroth.de
SUMMARY:Landfrauen
DESCRIPTION:
URL:https://alteschule-hasselroth.de/event/landfrauen-20/
LOCATION:Alte Schule\, Alte Dorfstraße 66\, Hasselroth\, Hessen\, 63594\, Germany
CATEGORIES:Hasselroth
END:VEVENT
BEGIN:VEVENT
DTSTART;TZID=Europe/Berlin:20260602T180000
DTEND;TZID=Europe/Berlin:20260602T210000
DTSTAMP:20260421T103828
CREATED:20250902T124032Z
LAST-MODIFIED:20250902T124032Z
UID:10006467-1780423200-1780434000@alteschule-hasselroth.de
SUMMARY:Landfrauen
DESCRIPTION:
URL:https://alteschule-hasselroth.de/event/landfrauen-21/
LOCATION:Alte Schule\, Alte Dorfstraße 66\, Hasselroth\, Hessen\, 63594\, Germany
CATEGORIES:Niedermittlau
END:VEVENT
BEGIN:VEVENT
DTSTART;TZID=Europe/Berlin:20260623T180000
DTEND;TZID=Europe/Berlin:20260623T210000
DTSTAMP:20260421T103828
CREATED:20250902T124300Z
LAST-MODIFIED:20250902T124300Z
UID:10006469-1782237600-1782248400@alteschule-hasselroth.de
SUMMARY:Landfrauen
DESCRIPTION:
URL:https://alteschule-hasselroth.de/event/landfrauen-23/
LOCATION:Alte Schule\, Alte Dorfstraße 66\, Hasselroth\, Hessen\, 63594\, Germany
CATEGORIES:Niedermittlau
END:VEVENT
BEGIN:VEVENT
DTSTART;TZID=Europe/Berlin:20260623T180000
DTEND;TZID=Europe/Berlin:20260623T213000
DTSTAMP:20260421T103828
CREATED:20250902T124441Z
LAST-MODIFIED:20250902T124441Z
UID:10006470-1782237600-1782250200@alteschule-hasselroth.de
SUMMARY:Landfrauen
DESCRIPTION:
URL:https://alteschule-hasselroth.de/event/landfrauen-24/
LOCATION:Alte Schule\, Alte Dorfstraße 66\, Hasselroth\, Hessen\, 63594\, Germany
CATEGORIES:Hasselroth
END:VEVENT
BEGIN:VEVENT
DTSTART;TZID=Europe/Berlin:20260727T070000
DTEND;TZID=Europe/Berlin:20260727T150000
DTSTAMP:20260421T103828
CREATED:20260114T135126Z
LAST-MODIFIED:20260114T135126Z
UID:10009554-1785135600-1785164400@alteschule-hasselroth.de
SUMMARY:Ferienspiele
DESCRIPTION:
URL:https://alteschule-hasselroth.de/event/ferienspiele/2026-07-27/
LOCATION:Alte Schule\, Alte Dorfstraße 66\, Hasselroth\, Hessen\, 63594\, Germany
CATEGORIES:Hasselroth,Küche,Niedermittlau
ORGANIZER;CN="Gemeinde":MAILTO:b.hechler@hasselroth.de
END:VEVENT
BEGIN:VEVENT
DTSTART;TZID=Europe/Berlin:20260728T070000
DTEND;TZID=Europe/Berlin:20260728T150000
DTSTAMP:20260421T103828
CREATED:20260114T135126Z
LAST-MODIFIED:20260114T135126Z
UID:10009555-1785222000-1785250800@alteschule-hasselroth.de
SUMMARY:Ferienspiele
DESCRIPTION:
URL:https://alteschule-hasselroth.de/event/ferienspiele/2026-07-28/
LOCATION:Alte Schule\, Alte Dorfstraße 66\, Hasselroth\, Hessen\, 63594\, Germany
CATEGORIES:Hasselroth,Küche,Niedermittlau
ORGANIZER;CN="Gemeinde":MAILTO:b.hechler@hasselroth.de
END:VEVENT
BEGIN:VEVENT
DTSTART;TZID=Europe/Berlin:20260908T190000
DTEND;TZID=Europe/Berlin:20260908T220000
DTSTAMP:20260421T103828
CREATED:20260202T084252Z
LAST-MODIFIED:20260202T084252Z
UID:10009679-1788894000-1788904800@alteschule-hasselroth.de
SUMMARY:Landfrauen
DESCRIPTION:
URL:https://alteschule-hasselroth.de/event/landfrauen-25/2026-09-08/
LOCATION:Alte Schule\, Alte Dorfstraße 66\, Hasselroth\, Hessen\, 63594\, Germany
CATEGORIES:Hasselroth
ATTACH;FMTTYPE=image/jpeg:https://alteschule-hasselroth.de/wp-content/uploads/2025/08/Logo_landfrauen_niedermittlau.jpg
END:VEVENT
BEGIN:VEVENT
DTSTART;TZID=Europe/Berlin:20260908T190000
DTEND;TZID=Europe/Berlin:20260908T220000
DTSTAMP:20260421T103828
CREATED:20260202T084511Z
LAST-MODIFIED:20260202T084511Z
UID:10009685-1788894000-1788904800@alteschule-hasselroth.de
SUMMARY:Landfrauen
DESCRIPTION:
URL:https://alteschule-hasselroth.de/event/landfrauen-26/2026-09-08/
LOCATION:Alte Schule\, Alte Dorfstraße 66\, Hasselroth\, Hessen\, 63594\, Germany
CATEGORIES:Niedermittlau
ATTACH;FMTTYPE=image/jpeg:https://alteschule-hasselroth.de/wp-content/uploads/2025/08/Logo_landfrauen_niedermittlau.jpg
END:VEVENT
BEGIN:VEVENT
DTSTART;TZID=Europe/Berlin:20260922T190000
DTEND;TZID=Europe/Berlin:20260922T220000
DTSTAMP:20260421T103828
CREATED:20260202T084252Z
LAST-MODIFIED:20260202T084252Z
UID:10009680-1790103600-1790114400@alteschule-hasselroth.de
SUMMARY:Landfrauen
DESCRIPTION:
URL:https://alteschule-hasselroth.de/event/landfrauen-25/2026-09-22/
LOCATION:Alte Schule\, Alte Dorfstraße 66\, Hasselroth\, Hessen\, 63594\, Germany
CATEGORIES:Hasselroth
ATTACH;FMTTYPE=image/jpeg:https://alteschule-hasselroth.de/wp-content/uploads/2025/08/Logo_landfrauen_niedermittlau.jpg
END:VEVENT
BEGIN:VEVENT
DTSTART;TZID=Europe/Berlin:20260922T190000
DTEND;TZID=Europe/Berlin:20260922T220000
DTSTAMP:20260421T103828
CREATED:20260202T084511Z
LAST-MODIFIED:20260202T084511Z
UID:10009686-1790103600-1790114400@alteschule-hasselroth.de
SUMMARY:Landfrauen
DESCRIPTION:
URL:https://alteschule-hasselroth.de/event/landfrauen-26/2026-09-22/
LOCATION:Alte Schule\, Alte Dorfstraße 66\, Hasselroth\, Hessen\, 63594\, Germany
CATEGORIES:Niedermittlau
ATTACH;FMTTYPE=image/jpeg:https://alteschule-hasselroth.de/wp-content/uploads/2025/08/Logo_landfrauen_niedermittlau.jpg
END:VEVENT
BEGIN:VEVENT
DTSTART;TZID=Europe/Berlin:20261006T190000
DTEND;TZID=Europe/Berlin:20261006T220000
DTSTAMP:20260421T103828
CREATED:20260202T084252Z
LAST-MODIFIED:20260202T084252Z
UID:10009681-1791313200-1791324000@alteschule-hasselroth.de
SUMMARY:Landfrauen
DESCRIPTION:
URL:https://alteschule-hasselroth.de/event/landfrauen-25/2026-10-06/
LOCATION:Alte Schule\, Alte Dorfstraße 66\, Hasselroth\, Hessen\, 63594\, Germany
CATEGORIES:Hasselroth
ATTACH;FMTTYPE=image/jpeg:https://alteschule-hasselroth.de/wp-content/uploads/2025/08/Logo_landfrauen_niedermittlau.jpg
END:VEVENT
BEGIN:VEVENT
DTSTART;TZID=Europe/Berlin:20261006T190000
DTEND;TZID=Europe/Berlin:20261006T220000
DTSTAMP:20260421T103828
CREATED:20260202T084511Z
LAST-MODIFIED:20260202T084511Z
UID:10009687-1791313200-1791324000@alteschule-hasselroth.de
SUMMARY:Landfrauen
DESCRIPTION:
URL:https://alteschule-hasselroth.de/event/landfrauen-26/2026-10-06/
LOCATION:Alte Schule\, Alte Dorfstraße 66\, Hasselroth\, Hessen\, 63594\, Germany
CATEGORIES:Niedermittlau
ATTACH;FMTTYPE=image/jpeg:https://alteschule-hasselroth.de/wp-content/uploads/2025/08/Logo_landfrauen_niedermittlau.jpg
END:VEVENT
BEGIN:VEVENT
DTSTART;TZID=Europe/Berlin:20261020T190000
DTEND;TZID=Europe/Berlin:20261020T220000
DTSTAMP:20260421T103828
CREATED:20260202T084252Z
LAST-MODIFIED:20260202T084252Z
UID:10009682-1792522800-1792533600@alteschule-hasselroth.de
SUMMARY:Landfrauen
DESCRIPTION:
URL:https://alteschule-hasselroth.de/event/landfrauen-25/2026-10-20/
LOCATION:Alte Schule\, Alte Dorfstraße 66\, Hasselroth\, Hessen\, 63594\, Germany
CATEGORIES:Hasselroth
ATTACH;FMTTYPE=image/jpeg:https://alteschule-hasselroth.de/wp-content/uploads/2025/08/Logo_landfrauen_niedermittlau.jpg
END:VEVENT
BEGIN:VEVENT
DTSTART;TZID=Europe/Berlin:20261020T190000
DTEND;TZID=Europe/Berlin:20261020T220000
DTSTAMP:20260421T103828
CREATED:20260202T084511Z
LAST-MODIFIED:20260202T084511Z
UID:10009688-1792522800-1792533600@alteschule-hasselroth.de
SUMMARY:Landfrauen
DESCRIPTION:
URL:https://alteschule-hasselroth.de/event/landfrauen-26/2026-10-20/
LOCATION:Alte Schule\, Alte Dorfstraße 66\, Hasselroth\, Hessen\, 63594\, Germany
CATEGORIES:Niedermittlau
ATTACH;FMTTYPE=image/jpeg:https://alteschule-hasselroth.de/wp-content/uploads/2025/08/Logo_landfrauen_niedermittlau.jpg
END:VEVENT
BEGIN:VEVENT
DTSTART;TZID=Europe/Berlin:20261103T190000
DTEND;TZID=Europe/Berlin:20261103T220000
DTSTAMP:20260421T103828
CREATED:20260202T084252Z
LAST-MODIFIED:20260202T084252Z
UID:10009683-1793732400-1793743200@alteschule-hasselroth.de
SUMMARY:Landfrauen
DESCRIPTION:
URL:https://alteschule-hasselroth.de/event/landfrauen-25/2026-11-03/
LOCATION:Alte Schule\, Alte Dorfstraße 66\, Hasselroth\, Hessen\, 63594\, Germany
CATEGORIES:Hasselroth
ATTACH;FMTTYPE=image/jpeg:https://alteschule-hasselroth.de/wp-content/uploads/2025/08/Logo_landfrauen_niedermittlau.jpg
END:VEVENT
BEGIN:VEVENT
DTSTART;TZID=Europe/Berlin:20261103T190000
DTEND;TZID=Europe/Berlin:20261103T220000
DTSTAMP:20260421T103828
CREATED:20260202T084511Z
LAST-MODIFIED:20260202T084511Z
UID:10009689-1793732400-1793743200@alteschule-hasselroth.de
SUMMARY:Landfrauen
DESCRIPTION:
URL:https://alteschule-hasselroth.de/event/landfrauen-26/2026-11-03/
LOCATION:Alte Schule\, Alte Dorfstraße 66\, Hasselroth\, Hessen\, 63594\, Germany
CATEGORIES:Niedermittlau
ATTACH;FMTTYPE=image/jpeg:https://alteschule-hasselroth.de/wp-content/uploads/2025/08/Logo_landfrauen_niedermittlau.jpg
END:VEVENT
BEGIN:VEVENT
DTSTART;TZID=Europe/Berlin:20261117T190000
DTEND;TZID=Europe/Berlin:20261117T220000
DTSTAMP:20260421T103828
CREATED:20260202T084252Z
LAST-MODIFIED:20260202T084252Z
UID:10009684-1794942000-1794952800@alteschule-hasselroth.de
SUMMARY:Landfrauen
DESCRIPTION:
URL:https://alteschule-hasselroth.de/event/landfrauen-25/2026-11-17/
LOCATION:Alte Schule\, Alte Dorfstraße 66\, Hasselroth\, Hessen\, 63594\, Germany
CATEGORIES:Hasselroth
ATTACH;FMTTYPE=image/jpeg:https://alteschule-hasselroth.de/wp-content/uploads/2025/08/Logo_landfrauen_niedermittlau.jpg
END:VEVENT
BEGIN:VEVENT
DTSTART;TZID=Europe/Berlin:20261117T190000
DTEND;TZID=Europe/Berlin:20261117T220000
DTSTAMP:20260421T103828
CREATED:20260202T084511Z
LAST-MODIFIED:20260202T084511Z
UID:10009690-1794942000-1794952800@alteschule-hasselroth.de
SUMMARY:Landfrauen
DESCRIPTION:
URL:https://alteschule-hasselroth.de/event/landfrauen-26/2026-11-17/
LOCATION:Alte Schule\, Alte Dorfstraße 66\, Hasselroth\, Hessen\, 63594\, Germany
CATEGORIES:Niedermittlau
ATTACH;FMTTYPE=image/jpeg:https://alteschule-hasselroth.de/wp-content/uploads/2025/08/Logo_landfrauen_niedermittlau.jpg
END:VEVENT
BEGIN:VEVENT
DTSTART;TZID=Europe/Berlin:20261208T190000
DTEND;TZID=Europe/Berlin:20261208T220000
DTSTAMP:20260421T103828
CREATED:20260202T084703Z
LAST-MODIFIED:20260202T084703Z
UID:10009691-1796756400-1796767200@alteschule-hasselroth.de
SUMMARY:Landfrauen
DESCRIPTION:
URL:https://alteschule-hasselroth.de/event/landfrauen-27/
LOCATION:Alte Schule\, Alte Dorfstraße 66\, Hasselroth\, Hessen\, 63594\, Germany
CATEGORIES:Hasselroth,Niedermittlau
ATTACH;FMTTYPE=image/jpeg:https://alteschule-hasselroth.de/wp-content/uploads/2025/08/Logo_landfrauen_niedermittlau.jpg
END:VEVENT
END:VCALENDAR