BEGIN:VCALENDAR
VERSION:2.0
PRODID:-//Aktionskreis aktives Niedermittlau e.V. - ECPv6.15.20//NONSGML v1.0//EN
CALSCALE:GREGORIAN
METHOD:PUBLISH
X-WR-CALNAME:Aktionskreis aktives Niedermittlau e.V.
X-ORIGINAL-URL:https://alteschule-hasselroth.de
X-WR-CALDESC:Veranstaltungen für Aktionskreis aktives Niedermittlau e.V.
REFRESH-INTERVAL;VALUE=DURATION:PT1H
X-Robots-Tag:noindex
X-PUBLISHED-TTL:PT1H
BEGIN:VTIMEZONE
TZID:Europe/Berlin
BEGIN:DAYLIGHT
TZOFFSETFROM:+0100
TZOFFSETTO:+0200
TZNAME:CEST
DTSTART:20280326T010000
END:DAYLIGHT
BEGIN:STANDARD
TZOFFSETFROM:+0200
TZOFFSETTO:+0100
TZNAME:CET
DTSTART:20281029T010000
END:STANDARD
BEGIN:DAYLIGHT
TZOFFSETFROM:+0100
TZOFFSETTO:+0200
TZNAME:CEST
DTSTART:20290325T010000
END:DAYLIGHT
BEGIN:STANDARD
TZOFFSETFROM:+0200
TZOFFSETTO:+0100
TZNAME:CET
DTSTART:20291028T010000
END:STANDARD
BEGIN:DAYLIGHT
TZOFFSETFROM:+0100
TZOFFSETTO:+0200
TZNAME:CEST
DTSTART:20300331T010000
END:DAYLIGHT
BEGIN:STANDARD
TZOFFSETFROM:+0200
TZOFFSETTO:+0100
TZNAME:CET
DTSTART:20301027T010000
END:STANDARD
END:VTIMEZONE
BEGIN:VEVENT
DTSTART;TZID=Europe/Berlin:20290602T140000
DTEND;TZID=Europe/Berlin:20290602T180000
DTSTAMP:20260424T101403
CREATED:20260316T060659Z
LAST-MODIFIED:20260316T060659Z
UID:10019773-1875103200-1875117600@alteschule-hasselroth.de
SUMMARY:DRK + JRK
DESCRIPTION:
URL:https://alteschule-hasselroth.de/event/drk-jrk/2029-06-02/
LOCATION:Alte Schule\, Alte Dorfstraße 66\, Hasselroth\, Hessen\, 63594\, Germany
CATEGORIES:Neuenhaßlau
END:VEVENT
BEGIN:VEVENT
DTSTART;TZID=Europe/Berlin:20290602T140000
DTEND;TZID=Europe/Berlin:20290602T190000
DTSTAMP:20260424T101403
CREATED:20260316T060548Z
LAST-MODIFIED:20260316T060548Z
UID:10014125-1875103200-1875121200@alteschule-hasselroth.de
SUMMARY:DRK + JRK
DESCRIPTION:
URL:https://alteschule-hasselroth.de/event/drk-jugend-4/2029-06-02/
LOCATION:Alte Schule\, Alte Dorfstraße 66\, Hasselroth\, Hessen\, 63594\, Germany
CATEGORIES:Gondsroth
END:VEVENT
BEGIN:VEVENT
DTSTART;TZID=Europe/Berlin:20290606T190000
DTEND;TZID=Europe/Berlin:20290607T000000
DTSTAMP:20260424T101403
CREATED:20250913T102808Z
LAST-MODIFIED:20260305T154617Z
UID:10015265-1875466800-1875484800@alteschule-hasselroth.de
SUMMARY:DRK Bereitschaftsdienst
DESCRIPTION:
URL:https://alteschule-hasselroth.de/event/drk-bereitschaftsdienst/2029-06-06/
LOCATION:Alte Schule\, Alte Dorfstraße 66\, Hasselroth\, Hessen\, 63594\, Germany
CATEGORIES:Gondsroth,Neuenhaßlau
END:VEVENT
BEGIN:VEVENT
DTSTART;TZID=Europe/Berlin:20290606T190000
DTEND;TZID=Europe/Berlin:20290607T000000
DTSTAMP:20260424T101403
CREATED:20250919T084108Z
LAST-MODIFIED:20260305T154730Z
UID:10015550-1875466800-1875484800@alteschule-hasselroth.de
SUMMARY:DRK Bereitschaftsdienst
DESCRIPTION:
URL:https://alteschule-hasselroth.de/event/drk-bereitschaftsdienst-2/2029-06-06/
LOCATION:Alte Schule\, Alte Dorfstraße 66\, Hasselroth\, Hessen\, 63594\, Germany
CATEGORIES:Neuenhaßlau
END:VEVENT
BEGIN:VEVENT
DTSTART;TZID=Europe/Berlin:20290609T140000
DTEND;TZID=Europe/Berlin:20290609T180000
DTSTAMP:20260424T101403
CREATED:20260316T060659Z
LAST-MODIFIED:20260316T060659Z
UID:10019774-1875708000-1875722400@alteschule-hasselroth.de
SUMMARY:DRK + JRK
DESCRIPTION:
URL:https://alteschule-hasselroth.de/event/drk-jrk/2029-06-09/
LOCATION:Alte Schule\, Alte Dorfstraße 66\, Hasselroth\, Hessen\, 63594\, Germany
CATEGORIES:Neuenhaßlau
END:VEVENT
BEGIN:VEVENT
DTSTART;TZID=Europe/Berlin:20290609T140000
DTEND;TZID=Europe/Berlin:20290609T190000
DTSTAMP:20260424T101403
CREATED:20260316T060548Z
LAST-MODIFIED:20260316T060548Z
UID:10014126-1875708000-1875726000@alteschule-hasselroth.de
SUMMARY:DRK + JRK
DESCRIPTION:
URL:https://alteschule-hasselroth.de/event/drk-jugend-4/2029-06-09/
LOCATION:Alte Schule\, Alte Dorfstraße 66\, Hasselroth\, Hessen\, 63594\, Germany
CATEGORIES:Gondsroth
END:VEVENT
BEGIN:VEVENT
DTSTART;TZID=Europe/Berlin:20290613T190000
DTEND;TZID=Europe/Berlin:20290614T000000
DTSTAMP:20260424T101403
CREATED:20250913T102808Z
LAST-MODIFIED:20260305T154617Z
UID:10015266-1876071600-1876089600@alteschule-hasselroth.de
SUMMARY:DRK Bereitschaftsdienst
DESCRIPTION:
URL:https://alteschule-hasselroth.de/event/drk-bereitschaftsdienst/2029-06-13/
LOCATION:Alte Schule\, Alte Dorfstraße 66\, Hasselroth\, Hessen\, 63594\, Germany
CATEGORIES:Gondsroth,Neuenhaßlau
END:VEVENT
BEGIN:VEVENT
DTSTART;TZID=Europe/Berlin:20290613T190000
DTEND;TZID=Europe/Berlin:20290614T000000
DTSTAMP:20260424T101403
CREATED:20250919T084108Z
LAST-MODIFIED:20260305T154730Z
UID:10015551-1876071600-1876089600@alteschule-hasselroth.de
SUMMARY:DRK Bereitschaftsdienst
DESCRIPTION:
URL:https://alteschule-hasselroth.de/event/drk-bereitschaftsdienst-2/2029-06-13/
LOCATION:Alte Schule\, Alte Dorfstraße 66\, Hasselroth\, Hessen\, 63594\, Germany
CATEGORIES:Neuenhaßlau
END:VEVENT
BEGIN:VEVENT
DTSTART;TZID=Europe/Berlin:20290616T140000
DTEND;TZID=Europe/Berlin:20290616T180000
DTSTAMP:20260424T101403
CREATED:20260316T060659Z
LAST-MODIFIED:20260316T060659Z
UID:10019775-1876312800-1876327200@alteschule-hasselroth.de
SUMMARY:DRK + JRK
DESCRIPTION:
URL:https://alteschule-hasselroth.de/event/drk-jrk/2029-06-16/
LOCATION:Alte Schule\, Alte Dorfstraße 66\, Hasselroth\, Hessen\, 63594\, Germany
CATEGORIES:Neuenhaßlau
END:VEVENT
BEGIN:VEVENT
DTSTART;TZID=Europe/Berlin:20290616T140000
DTEND;TZID=Europe/Berlin:20290616T190000
DTSTAMP:20260424T101403
CREATED:20260316T060548Z
LAST-MODIFIED:20260316T060548Z
UID:10014127-1876312800-1876330800@alteschule-hasselroth.de
SUMMARY:DRK + JRK
DESCRIPTION:
URL:https://alteschule-hasselroth.de/event/drk-jugend-4/2029-06-16/
LOCATION:Alte Schule\, Alte Dorfstraße 66\, Hasselroth\, Hessen\, 63594\, Germany
CATEGORIES:Gondsroth
END:VEVENT
BEGIN:VEVENT
DTSTART;TZID=Europe/Berlin:20290620T190000
DTEND;TZID=Europe/Berlin:20290621T000000
DTSTAMP:20260424T101403
CREATED:20250913T102808Z
LAST-MODIFIED:20260305T154617Z
UID:10015267-1876676400-1876694400@alteschule-hasselroth.de
SUMMARY:DRK Bereitschaftsdienst
DESCRIPTION:
URL:https://alteschule-hasselroth.de/event/drk-bereitschaftsdienst/2029-06-20/
LOCATION:Alte Schule\, Alte Dorfstraße 66\, Hasselroth\, Hessen\, 63594\, Germany
CATEGORIES:Gondsroth,Neuenhaßlau
END:VEVENT
BEGIN:VEVENT
DTSTART;TZID=Europe/Berlin:20290620T190000
DTEND;TZID=Europe/Berlin:20290621T000000
DTSTAMP:20260424T101403
CREATED:20250919T084108Z
LAST-MODIFIED:20260305T154730Z
UID:10015552-1876676400-1876694400@alteschule-hasselroth.de
SUMMARY:DRK Bereitschaftsdienst
DESCRIPTION:
URL:https://alteschule-hasselroth.de/event/drk-bereitschaftsdienst-2/2029-06-20/
LOCATION:Alte Schule\, Alte Dorfstraße 66\, Hasselroth\, Hessen\, 63594\, Germany
CATEGORIES:Neuenhaßlau
END:VEVENT
BEGIN:VEVENT
DTSTART;TZID=Europe/Berlin:20290623T140000
DTEND;TZID=Europe/Berlin:20290623T180000
DTSTAMP:20260424T101403
CREATED:20260316T060659Z
LAST-MODIFIED:20260316T060659Z
UID:10019776-1876917600-1876932000@alteschule-hasselroth.de
SUMMARY:DRK + JRK
DESCRIPTION:
URL:https://alteschule-hasselroth.de/event/drk-jrk/2029-06-23/
LOCATION:Alte Schule\, Alte Dorfstraße 66\, Hasselroth\, Hessen\, 63594\, Germany
CATEGORIES:Neuenhaßlau
END:VEVENT
BEGIN:VEVENT
DTSTART;TZID=Europe/Berlin:20290623T140000
DTEND;TZID=Europe/Berlin:20290623T190000
DTSTAMP:20260424T101403
CREATED:20260316T060548Z
LAST-MODIFIED:20260316T060548Z
UID:10014128-1876917600-1876935600@alteschule-hasselroth.de
SUMMARY:DRK + JRK
DESCRIPTION:
URL:https://alteschule-hasselroth.de/event/drk-jugend-4/2029-06-23/
LOCATION:Alte Schule\, Alte Dorfstraße 66\, Hasselroth\, Hessen\, 63594\, Germany
CATEGORIES:Gondsroth
END:VEVENT
BEGIN:VEVENT
DTSTART;TZID=Europe/Berlin:20290627T190000
DTEND;TZID=Europe/Berlin:20290628T000000
DTSTAMP:20260424T101403
CREATED:20250913T102808Z
LAST-MODIFIED:20260305T154617Z
UID:10015268-1877281200-1877299200@alteschule-hasselroth.de
SUMMARY:DRK Bereitschaftsdienst
DESCRIPTION:
URL:https://alteschule-hasselroth.de/event/drk-bereitschaftsdienst/2029-06-27/
LOCATION:Alte Schule\, Alte Dorfstraße 66\, Hasselroth\, Hessen\, 63594\, Germany
CATEGORIES:Gondsroth,Neuenhaßlau
END:VEVENT
BEGIN:VEVENT
DTSTART;TZID=Europe/Berlin:20290627T190000
DTEND;TZID=Europe/Berlin:20290628T000000
DTSTAMP:20260424T101403
CREATED:20250919T084108Z
LAST-MODIFIED:20260305T154730Z
UID:10015553-1877281200-1877299200@alteschule-hasselroth.de
SUMMARY:DRK Bereitschaftsdienst
DESCRIPTION:
URL:https://alteschule-hasselroth.de/event/drk-bereitschaftsdienst-2/2029-06-27/
LOCATION:Alte Schule\, Alte Dorfstraße 66\, Hasselroth\, Hessen\, 63594\, Germany
CATEGORIES:Neuenhaßlau
END:VEVENT
BEGIN:VEVENT
DTSTART;TZID=Europe/Berlin:20290630T140000
DTEND;TZID=Europe/Berlin:20290630T180000
DTSTAMP:20260424T101403
CREATED:20260316T060659Z
LAST-MODIFIED:20260316T060659Z
UID:10019777-1877522400-1877536800@alteschule-hasselroth.de
SUMMARY:DRK + JRK
DESCRIPTION:
URL:https://alteschule-hasselroth.de/event/drk-jrk/2029-06-30/
LOCATION:Alte Schule\, Alte Dorfstraße 66\, Hasselroth\, Hessen\, 63594\, Germany
CATEGORIES:Neuenhaßlau
END:VEVENT
BEGIN:VEVENT
DTSTART;TZID=Europe/Berlin:20290630T140000
DTEND;TZID=Europe/Berlin:20290630T190000
DTSTAMP:20260424T101403
CREATED:20260316T060548Z
LAST-MODIFIED:20260316T060548Z
UID:10014129-1877522400-1877540400@alteschule-hasselroth.de
SUMMARY:DRK + JRK
DESCRIPTION:
URL:https://alteschule-hasselroth.de/event/drk-jugend-4/2029-06-30/
LOCATION:Alte Schule\, Alte Dorfstraße 66\, Hasselroth\, Hessen\, 63594\, Germany
CATEGORIES:Gondsroth
END:VEVENT
BEGIN:VEVENT
DTSTART;TZID=Europe/Berlin:20290704T190000
DTEND;TZID=Europe/Berlin:20290705T000000
DTSTAMP:20260424T101403
CREATED:20250913T102808Z
LAST-MODIFIED:20260305T154617Z
UID:10015269-1877886000-1877904000@alteschule-hasselroth.de
SUMMARY:DRK Bereitschaftsdienst
DESCRIPTION:
URL:https://alteschule-hasselroth.de/event/drk-bereitschaftsdienst/2029-07-04/
LOCATION:Alte Schule\, Alte Dorfstraße 66\, Hasselroth\, Hessen\, 63594\, Germany
CATEGORIES:Gondsroth,Neuenhaßlau
END:VEVENT
BEGIN:VEVENT
DTSTART;TZID=Europe/Berlin:20290704T190000
DTEND;TZID=Europe/Berlin:20290705T000000
DTSTAMP:20260424T101403
CREATED:20250919T084108Z
LAST-MODIFIED:20260305T154730Z
UID:10015554-1877886000-1877904000@alteschule-hasselroth.de
SUMMARY:DRK Bereitschaftsdienst
DESCRIPTION:
URL:https://alteschule-hasselroth.de/event/drk-bereitschaftsdienst-2/2029-07-04/
LOCATION:Alte Schule\, Alte Dorfstraße 66\, Hasselroth\, Hessen\, 63594\, Germany
CATEGORIES:Neuenhaßlau
END:VEVENT
BEGIN:VEVENT
DTSTART;TZID=Europe/Berlin:20290707T140000
DTEND;TZID=Europe/Berlin:20290707T180000
DTSTAMP:20260424T101403
CREATED:20260316T060659Z
LAST-MODIFIED:20260316T060659Z
UID:10019778-1878127200-1878141600@alteschule-hasselroth.de
SUMMARY:DRK + JRK
DESCRIPTION:
URL:https://alteschule-hasselroth.de/event/drk-jrk/2029-07-07/
LOCATION:Alte Schule\, Alte Dorfstraße 66\, Hasselroth\, Hessen\, 63594\, Germany
CATEGORIES:Neuenhaßlau
END:VEVENT
BEGIN:VEVENT
DTSTART;TZID=Europe/Berlin:20290707T140000
DTEND;TZID=Europe/Berlin:20290707T190000
DTSTAMP:20260424T101403
CREATED:20260316T060548Z
LAST-MODIFIED:20260316T060548Z
UID:10014130-1878127200-1878145200@alteschule-hasselroth.de
SUMMARY:DRK + JRK
DESCRIPTION:
URL:https://alteschule-hasselroth.de/event/drk-jugend-4/2029-07-07/
LOCATION:Alte Schule\, Alte Dorfstraße 66\, Hasselroth\, Hessen\, 63594\, Germany
CATEGORIES:Gondsroth
END:VEVENT
BEGIN:VEVENT
DTSTART;TZID=Europe/Berlin:20290711T190000
DTEND;TZID=Europe/Berlin:20290712T000000
DTSTAMP:20260424T101403
CREATED:20250913T102808Z
LAST-MODIFIED:20260305T154617Z
UID:10015270-1878490800-1878508800@alteschule-hasselroth.de
SUMMARY:DRK Bereitschaftsdienst
DESCRIPTION:
URL:https://alteschule-hasselroth.de/event/drk-bereitschaftsdienst/2029-07-11/
LOCATION:Alte Schule\, Alte Dorfstraße 66\, Hasselroth\, Hessen\, 63594\, Germany
CATEGORIES:Gondsroth,Neuenhaßlau
END:VEVENT
BEGIN:VEVENT
DTSTART;TZID=Europe/Berlin:20290711T190000
DTEND;TZID=Europe/Berlin:20290712T000000
DTSTAMP:20260424T101403
CREATED:20250919T084108Z
LAST-MODIFIED:20260305T154730Z
UID:10015555-1878490800-1878508800@alteschule-hasselroth.de
SUMMARY:DRK Bereitschaftsdienst
DESCRIPTION:
URL:https://alteschule-hasselroth.de/event/drk-bereitschaftsdienst-2/2029-07-11/
LOCATION:Alte Schule\, Alte Dorfstraße 66\, Hasselroth\, Hessen\, 63594\, Germany
CATEGORIES:Neuenhaßlau
END:VEVENT
BEGIN:VEVENT
DTSTART;TZID=Europe/Berlin:20290714T140000
DTEND;TZID=Europe/Berlin:20290714T180000
DTSTAMP:20260424T101403
CREATED:20260316T060659Z
LAST-MODIFIED:20260316T060659Z
UID:10019779-1878732000-1878746400@alteschule-hasselroth.de
SUMMARY:DRK + JRK
DESCRIPTION:
URL:https://alteschule-hasselroth.de/event/drk-jrk/2029-07-14/
LOCATION:Alte Schule\, Alte Dorfstraße 66\, Hasselroth\, Hessen\, 63594\, Germany
CATEGORIES:Neuenhaßlau
END:VEVENT
BEGIN:VEVENT
DTSTART;TZID=Europe/Berlin:20290714T140000
DTEND;TZID=Europe/Berlin:20290714T190000
DTSTAMP:20260424T101403
CREATED:20260316T060548Z
LAST-MODIFIED:20260316T060548Z
UID:10014131-1878732000-1878750000@alteschule-hasselroth.de
SUMMARY:DRK + JRK
DESCRIPTION:
URL:https://alteschule-hasselroth.de/event/drk-jugend-4/2029-07-14/
LOCATION:Alte Schule\, Alte Dorfstraße 66\, Hasselroth\, Hessen\, 63594\, Germany
CATEGORIES:Gondsroth
END:VEVENT
BEGIN:VEVENT
DTSTART;TZID=Europe/Berlin:20290718T190000
DTEND;TZID=Europe/Berlin:20290719T000000
DTSTAMP:20260424T101403
CREATED:20250913T102808Z
LAST-MODIFIED:20260305T154617Z
UID:10015271-1879095600-1879113600@alteschule-hasselroth.de
SUMMARY:DRK Bereitschaftsdienst
DESCRIPTION:
URL:https://alteschule-hasselroth.de/event/drk-bereitschaftsdienst/2029-07-18/
LOCATION:Alte Schule\, Alte Dorfstraße 66\, Hasselroth\, Hessen\, 63594\, Germany
CATEGORIES:Gondsroth,Neuenhaßlau
END:VEVENT
BEGIN:VEVENT
DTSTART;TZID=Europe/Berlin:20290718T190000
DTEND;TZID=Europe/Berlin:20290719T000000
DTSTAMP:20260424T101403
CREATED:20250919T084108Z
LAST-MODIFIED:20260305T154730Z
UID:10015556-1879095600-1879113600@alteschule-hasselroth.de
SUMMARY:DRK Bereitschaftsdienst
DESCRIPTION:
URL:https://alteschule-hasselroth.de/event/drk-bereitschaftsdienst-2/2029-07-18/
LOCATION:Alte Schule\, Alte Dorfstraße 66\, Hasselroth\, Hessen\, 63594\, Germany
CATEGORIES:Neuenhaßlau
END:VEVENT
BEGIN:VEVENT
DTSTART;TZID=Europe/Berlin:20290721T140000
DTEND;TZID=Europe/Berlin:20290721T180000
DTSTAMP:20260424T101403
CREATED:20260316T060659Z
LAST-MODIFIED:20260316T060659Z
UID:10019780-1879336800-1879351200@alteschule-hasselroth.de
SUMMARY:DRK + JRK
DESCRIPTION:
URL:https://alteschule-hasselroth.de/event/drk-jrk/2029-07-21/
LOCATION:Alte Schule\, Alte Dorfstraße 66\, Hasselroth\, Hessen\, 63594\, Germany
CATEGORIES:Neuenhaßlau
END:VEVENT
BEGIN:VEVENT
DTSTART;TZID=Europe/Berlin:20290721T140000
DTEND;TZID=Europe/Berlin:20290721T190000
DTSTAMP:20260424T101403
CREATED:20260316T060548Z
LAST-MODIFIED:20260316T060548Z
UID:10014132-1879336800-1879354800@alteschule-hasselroth.de
SUMMARY:DRK + JRK
DESCRIPTION:
URL:https://alteschule-hasselroth.de/event/drk-jugend-4/2029-07-21/
LOCATION:Alte Schule\, Alte Dorfstraße 66\, Hasselroth\, Hessen\, 63594\, Germany
CATEGORIES:Gondsroth
END:VEVENT
END:VCALENDAR