BEGIN:VCALENDAR
VERSION:2.0
PRODID:-//Aktionskreis aktives Niedermittlau e.V. - ECPv6.15.20//NONSGML v1.0//EN
CALSCALE:GREGORIAN
METHOD:PUBLISH
X-ORIGINAL-URL:https://alteschule-hasselroth.de
X-WR-CALDESC:Veranstaltungen für Aktionskreis aktives Niedermittlau e.V.
REFRESH-INTERVAL;VALUE=DURATION:PT1H
X-Robots-Tag:noindex
X-PUBLISHED-TTL:PT1H
BEGIN:VTIMEZONE
TZID:Europe/Berlin
BEGIN:DAYLIGHT
TZOFFSETFROM:+0100
TZOFFSETTO:+0200
TZNAME:CEST
DTSTART:20280326T010000
END:DAYLIGHT
BEGIN:STANDARD
TZOFFSETFROM:+0200
TZOFFSETTO:+0100
TZNAME:CET
DTSTART:20281029T010000
END:STANDARD
BEGIN:DAYLIGHT
TZOFFSETFROM:+0100
TZOFFSETTO:+0200
TZNAME:CEST
DTSTART:20290325T010000
END:DAYLIGHT
BEGIN:STANDARD
TZOFFSETFROM:+0200
TZOFFSETTO:+0100
TZNAME:CET
DTSTART:20291028T010000
END:STANDARD
BEGIN:DAYLIGHT
TZOFFSETFROM:+0100
TZOFFSETTO:+0200
TZNAME:CEST
DTSTART:20300331T010000
END:DAYLIGHT
BEGIN:STANDARD
TZOFFSETFROM:+0200
TZOFFSETTO:+0100
TZNAME:CET
DTSTART:20301027T010000
END:STANDARD
END:VTIMEZONE
BEGIN:VEVENT
DTSTART;TZID=Europe/Berlin:20290328T190000
DTEND;TZID=Europe/Berlin:20290329T000000
DTSTAMP:20260422T183414
CREATED:20250913T102808Z
LAST-MODIFIED:20260305T154617Z
UID:10015255-1869418800-1869436800@alteschule-hasselroth.de
SUMMARY:DRK Bereitschaftsdienst
DESCRIPTION:
URL:https://alteschule-hasselroth.de/event/drk-bereitschaftsdienst/2029-03-28/
LOCATION:Alte Schule\, Alte Dorfstraße 66\, Hasselroth\, Hessen\, 63594\, Germany
CATEGORIES:Gondsroth,Neuenhaßlau
END:VEVENT
BEGIN:VEVENT
DTSTART;TZID=Europe/Berlin:20290328T190000
DTEND;TZID=Europe/Berlin:20290329T000000
DTSTAMP:20260422T183414
CREATED:20250919T084108Z
LAST-MODIFIED:20260305T154730Z
UID:10015540-1869418800-1869436800@alteschule-hasselroth.de
SUMMARY:DRK Bereitschaftsdienst
DESCRIPTION:
URL:https://alteschule-hasselroth.de/event/drk-bereitschaftsdienst-2/2029-03-28/
LOCATION:Alte Schule\, Alte Dorfstraße 66\, Hasselroth\, Hessen\, 63594\, Germany
CATEGORIES:Neuenhaßlau
END:VEVENT
BEGIN:VEVENT
DTSTART;TZID=Europe/Berlin:20290331T140000
DTEND;TZID=Europe/Berlin:20290331T180000
DTSTAMP:20260422T183414
CREATED:20260316T060659Z
LAST-MODIFIED:20260316T060659Z
UID:10019764-1869660000-1869674400@alteschule-hasselroth.de
SUMMARY:DRK + JRK
DESCRIPTION:
URL:https://alteschule-hasselroth.de/event/drk-jrk/2029-03-31/
LOCATION:Alte Schule\, Alte Dorfstraße 66\, Hasselroth\, Hessen\, 63594\, Germany
CATEGORIES:Neuenhaßlau
END:VEVENT
BEGIN:VEVENT
DTSTART;TZID=Europe/Berlin:20290331T140000
DTEND;TZID=Europe/Berlin:20290331T190000
DTSTAMP:20260422T183414
CREATED:20260316T060548Z
LAST-MODIFIED:20260316T060548Z
UID:10014116-1869660000-1869678000@alteschule-hasselroth.de
SUMMARY:DRK + JRK
DESCRIPTION:
URL:https://alteschule-hasselroth.de/event/drk-jugend-4/2029-03-31/
LOCATION:Alte Schule\, Alte Dorfstraße 66\, Hasselroth\, Hessen\, 63594\, Germany
CATEGORIES:Gondsroth
END:VEVENT
BEGIN:VEVENT
DTSTART;TZID=Europe/Berlin:20290404T190000
DTEND;TZID=Europe/Berlin:20290405T000000
DTSTAMP:20260422T183414
CREATED:20250913T102808Z
LAST-MODIFIED:20260305T154617Z
UID:10015256-1870023600-1870041600@alteschule-hasselroth.de
SUMMARY:DRK Bereitschaftsdienst
DESCRIPTION:
URL:https://alteschule-hasselroth.de/event/drk-bereitschaftsdienst/2029-04-04/
LOCATION:Alte Schule\, Alte Dorfstraße 66\, Hasselroth\, Hessen\, 63594\, Germany
CATEGORIES:Gondsroth,Neuenhaßlau
END:VEVENT
BEGIN:VEVENT
DTSTART;TZID=Europe/Berlin:20290404T190000
DTEND;TZID=Europe/Berlin:20290405T000000
DTSTAMP:20260422T183414
CREATED:20250919T084108Z
LAST-MODIFIED:20260305T154730Z
UID:10015541-1870023600-1870041600@alteschule-hasselroth.de
SUMMARY:DRK Bereitschaftsdienst
DESCRIPTION:
URL:https://alteschule-hasselroth.de/event/drk-bereitschaftsdienst-2/2029-04-04/
LOCATION:Alte Schule\, Alte Dorfstraße 66\, Hasselroth\, Hessen\, 63594\, Germany
CATEGORIES:Neuenhaßlau
END:VEVENT
BEGIN:VEVENT
DTSTART;TZID=Europe/Berlin:20290407T140000
DTEND;TZID=Europe/Berlin:20290407T180000
DTSTAMP:20260422T183414
CREATED:20260316T060659Z
LAST-MODIFIED:20260316T060659Z
UID:10019765-1870264800-1870279200@alteschule-hasselroth.de
SUMMARY:DRK + JRK
DESCRIPTION:
URL:https://alteschule-hasselroth.de/event/drk-jrk/2029-04-07/
LOCATION:Alte Schule\, Alte Dorfstraße 66\, Hasselroth\, Hessen\, 63594\, Germany
CATEGORIES:Neuenhaßlau
END:VEVENT
BEGIN:VEVENT
DTSTART;TZID=Europe/Berlin:20290407T140000
DTEND;TZID=Europe/Berlin:20290407T190000
DTSTAMP:20260422T183415
CREATED:20260316T060548Z
LAST-MODIFIED:20260316T060548Z
UID:10014117-1870264800-1870282800@alteschule-hasselroth.de
SUMMARY:DRK + JRK
DESCRIPTION:
URL:https://alteschule-hasselroth.de/event/drk-jugend-4/2029-04-07/
LOCATION:Alte Schule\, Alte Dorfstraße 66\, Hasselroth\, Hessen\, 63594\, Germany
CATEGORIES:Gondsroth
END:VEVENT
BEGIN:VEVENT
DTSTART;TZID=Europe/Berlin:20290411T190000
DTEND;TZID=Europe/Berlin:20290412T000000
DTSTAMP:20260422T183415
CREATED:20250913T102808Z
LAST-MODIFIED:20260305T154617Z
UID:10015257-1870628400-1870646400@alteschule-hasselroth.de
SUMMARY:DRK Bereitschaftsdienst
DESCRIPTION:
URL:https://alteschule-hasselroth.de/event/drk-bereitschaftsdienst/2029-04-11/
LOCATION:Alte Schule\, Alte Dorfstraße 66\, Hasselroth\, Hessen\, 63594\, Germany
CATEGORIES:Gondsroth,Neuenhaßlau
END:VEVENT
BEGIN:VEVENT
DTSTART;TZID=Europe/Berlin:20290411T190000
DTEND;TZID=Europe/Berlin:20290412T000000
DTSTAMP:20260422T183415
CREATED:20250919T084108Z
LAST-MODIFIED:20260305T154730Z
UID:10015542-1870628400-1870646400@alteschule-hasselroth.de
SUMMARY:DRK Bereitschaftsdienst
DESCRIPTION:
URL:https://alteschule-hasselroth.de/event/drk-bereitschaftsdienst-2/2029-04-11/
LOCATION:Alte Schule\, Alte Dorfstraße 66\, Hasselroth\, Hessen\, 63594\, Germany
CATEGORIES:Neuenhaßlau
END:VEVENT
BEGIN:VEVENT
DTSTART;TZID=Europe/Berlin:20290414T140000
DTEND;TZID=Europe/Berlin:20290414T180000
DTSTAMP:20260422T183415
CREATED:20260316T060659Z
LAST-MODIFIED:20260316T060659Z
UID:10019766-1870869600-1870884000@alteschule-hasselroth.de
SUMMARY:DRK + JRK
DESCRIPTION:
URL:https://alteschule-hasselroth.de/event/drk-jrk/2029-04-14/
LOCATION:Alte Schule\, Alte Dorfstraße 66\, Hasselroth\, Hessen\, 63594\, Germany
CATEGORIES:Neuenhaßlau
END:VEVENT
BEGIN:VEVENT
DTSTART;TZID=Europe/Berlin:20290414T140000
DTEND;TZID=Europe/Berlin:20290414T190000
DTSTAMP:20260422T183415
CREATED:20260316T060548Z
LAST-MODIFIED:20260316T060548Z
UID:10014118-1870869600-1870887600@alteschule-hasselroth.de
SUMMARY:DRK + JRK
DESCRIPTION:
URL:https://alteschule-hasselroth.de/event/drk-jugend-4/2029-04-14/
LOCATION:Alte Schule\, Alte Dorfstraße 66\, Hasselroth\, Hessen\, 63594\, Germany
CATEGORIES:Gondsroth
END:VEVENT
BEGIN:VEVENT
DTSTART;TZID=Europe/Berlin:20290418T190000
DTEND;TZID=Europe/Berlin:20290419T000000
DTSTAMP:20260422T183415
CREATED:20250913T102808Z
LAST-MODIFIED:20260305T154617Z
UID:10015258-1871233200-1871251200@alteschule-hasselroth.de
SUMMARY:DRK Bereitschaftsdienst
DESCRIPTION:
URL:https://alteschule-hasselroth.de/event/drk-bereitschaftsdienst/2029-04-18/
LOCATION:Alte Schule\, Alte Dorfstraße 66\, Hasselroth\, Hessen\, 63594\, Germany
CATEGORIES:Gondsroth,Neuenhaßlau
END:VEVENT
BEGIN:VEVENT
DTSTART;TZID=Europe/Berlin:20290418T190000
DTEND;TZID=Europe/Berlin:20290419T000000
DTSTAMP:20260422T183415
CREATED:20250919T084108Z
LAST-MODIFIED:20260305T154730Z
UID:10015543-1871233200-1871251200@alteschule-hasselroth.de
SUMMARY:DRK Bereitschaftsdienst
DESCRIPTION:
URL:https://alteschule-hasselroth.de/event/drk-bereitschaftsdienst-2/2029-04-18/
LOCATION:Alte Schule\, Alte Dorfstraße 66\, Hasselroth\, Hessen\, 63594\, Germany
CATEGORIES:Neuenhaßlau
END:VEVENT
BEGIN:VEVENT
DTSTART;TZID=Europe/Berlin:20290421T140000
DTEND;TZID=Europe/Berlin:20290421T180000
DTSTAMP:20260422T183415
CREATED:20260316T060659Z
LAST-MODIFIED:20260316T060659Z
UID:10019767-1871474400-1871488800@alteschule-hasselroth.de
SUMMARY:DRK + JRK
DESCRIPTION:
URL:https://alteschule-hasselroth.de/event/drk-jrk/2029-04-21/
LOCATION:Alte Schule\, Alte Dorfstraße 66\, Hasselroth\, Hessen\, 63594\, Germany
CATEGORIES:Neuenhaßlau
END:VEVENT
BEGIN:VEVENT
DTSTART;TZID=Europe/Berlin:20290421T140000
DTEND;TZID=Europe/Berlin:20290421T190000
DTSTAMP:20260422T183415
CREATED:20260316T060548Z
LAST-MODIFIED:20260316T060548Z
UID:10014119-1871474400-1871492400@alteschule-hasselroth.de
SUMMARY:DRK + JRK
DESCRIPTION:
URL:https://alteschule-hasselroth.de/event/drk-jugend-4/2029-04-21/
LOCATION:Alte Schule\, Alte Dorfstraße 66\, Hasselroth\, Hessen\, 63594\, Germany
CATEGORIES:Gondsroth
END:VEVENT
BEGIN:VEVENT
DTSTART;TZID=Europe/Berlin:20290425T190000
DTEND;TZID=Europe/Berlin:20290426T000000
DTSTAMP:20260422T183415
CREATED:20250913T102808Z
LAST-MODIFIED:20260305T154617Z
UID:10015259-1871838000-1871856000@alteschule-hasselroth.de
SUMMARY:DRK Bereitschaftsdienst
DESCRIPTION:
URL:https://alteschule-hasselroth.de/event/drk-bereitschaftsdienst/2029-04-25/
LOCATION:Alte Schule\, Alte Dorfstraße 66\, Hasselroth\, Hessen\, 63594\, Germany
CATEGORIES:Gondsroth,Neuenhaßlau
END:VEVENT
BEGIN:VEVENT
DTSTART;TZID=Europe/Berlin:20290425T190000
DTEND;TZID=Europe/Berlin:20290426T000000
DTSTAMP:20260422T183415
CREATED:20250919T084108Z
LAST-MODIFIED:20260305T154730Z
UID:10015544-1871838000-1871856000@alteschule-hasselroth.de
SUMMARY:DRK Bereitschaftsdienst
DESCRIPTION:
URL:https://alteschule-hasselroth.de/event/drk-bereitschaftsdienst-2/2029-04-25/
LOCATION:Alte Schule\, Alte Dorfstraße 66\, Hasselroth\, Hessen\, 63594\, Germany
CATEGORIES:Neuenhaßlau
END:VEVENT
BEGIN:VEVENT
DTSTART;TZID=Europe/Berlin:20290428T140000
DTEND;TZID=Europe/Berlin:20290428T180000
DTSTAMP:20260422T183415
CREATED:20260316T060659Z
LAST-MODIFIED:20260316T060659Z
UID:10019768-1872079200-1872093600@alteschule-hasselroth.de
SUMMARY:DRK + JRK
DESCRIPTION:
URL:https://alteschule-hasselroth.de/event/drk-jrk/2029-04-28/
LOCATION:Alte Schule\, Alte Dorfstraße 66\, Hasselroth\, Hessen\, 63594\, Germany
CATEGORIES:Neuenhaßlau
END:VEVENT
BEGIN:VEVENT
DTSTART;TZID=Europe/Berlin:20290428T140000
DTEND;TZID=Europe/Berlin:20290428T190000
DTSTAMP:20260422T183415
CREATED:20260316T060548Z
LAST-MODIFIED:20260316T060548Z
UID:10014120-1872079200-1872097200@alteschule-hasselroth.de
SUMMARY:DRK + JRK
DESCRIPTION:
URL:https://alteschule-hasselroth.de/event/drk-jugend-4/2029-04-28/
LOCATION:Alte Schule\, Alte Dorfstraße 66\, Hasselroth\, Hessen\, 63594\, Germany
CATEGORIES:Gondsroth
END:VEVENT
BEGIN:VEVENT
DTSTART;TZID=Europe/Berlin:20290502T190000
DTEND;TZID=Europe/Berlin:20290503T000000
DTSTAMP:20260422T183415
CREATED:20250913T102808Z
LAST-MODIFIED:20260305T154617Z
UID:10015260-1872442800-1872460800@alteschule-hasselroth.de
SUMMARY:DRK Bereitschaftsdienst
DESCRIPTION:
URL:https://alteschule-hasselroth.de/event/drk-bereitschaftsdienst/2029-05-02/
LOCATION:Alte Schule\, Alte Dorfstraße 66\, Hasselroth\, Hessen\, 63594\, Germany
CATEGORIES:Gondsroth,Neuenhaßlau
END:VEVENT
BEGIN:VEVENT
DTSTART;TZID=Europe/Berlin:20290502T190000
DTEND;TZID=Europe/Berlin:20290503T000000
DTSTAMP:20260422T183415
CREATED:20250919T084108Z
LAST-MODIFIED:20260305T154730Z
UID:10015545-1872442800-1872460800@alteschule-hasselroth.de
SUMMARY:DRK Bereitschaftsdienst
DESCRIPTION:
URL:https://alteschule-hasselroth.de/event/drk-bereitschaftsdienst-2/2029-05-02/
LOCATION:Alte Schule\, Alte Dorfstraße 66\, Hasselroth\, Hessen\, 63594\, Germany
CATEGORIES:Neuenhaßlau
END:VEVENT
BEGIN:VEVENT
DTSTART;TZID=Europe/Berlin:20290505T140000
DTEND;TZID=Europe/Berlin:20290505T180000
DTSTAMP:20260422T183415
CREATED:20260316T060659Z
LAST-MODIFIED:20260316T060659Z
UID:10019769-1872684000-1872698400@alteschule-hasselroth.de
SUMMARY:DRK + JRK
DESCRIPTION:
URL:https://alteschule-hasselroth.de/event/drk-jrk/2029-05-05/
LOCATION:Alte Schule\, Alte Dorfstraße 66\, Hasselroth\, Hessen\, 63594\, Germany
CATEGORIES:Neuenhaßlau
END:VEVENT
BEGIN:VEVENT
DTSTART;TZID=Europe/Berlin:20290505T140000
DTEND;TZID=Europe/Berlin:20290505T190000
DTSTAMP:20260422T183415
CREATED:20260316T060548Z
LAST-MODIFIED:20260316T060548Z
UID:10014121-1872684000-1872702000@alteschule-hasselroth.de
SUMMARY:DRK + JRK
DESCRIPTION:
URL:https://alteschule-hasselroth.de/event/drk-jugend-4/2029-05-05/
LOCATION:Alte Schule\, Alte Dorfstraße 66\, Hasselroth\, Hessen\, 63594\, Germany
CATEGORIES:Gondsroth
END:VEVENT
BEGIN:VEVENT
DTSTART;TZID=Europe/Berlin:20290509T190000
DTEND;TZID=Europe/Berlin:20290510T000000
DTSTAMP:20260422T183415
CREATED:20250913T102808Z
LAST-MODIFIED:20260305T154617Z
UID:10015261-1873047600-1873065600@alteschule-hasselroth.de
SUMMARY:DRK Bereitschaftsdienst
DESCRIPTION:
URL:https://alteschule-hasselroth.de/event/drk-bereitschaftsdienst/2029-05-09/
LOCATION:Alte Schule\, Alte Dorfstraße 66\, Hasselroth\, Hessen\, 63594\, Germany
CATEGORIES:Gondsroth,Neuenhaßlau
END:VEVENT
BEGIN:VEVENT
DTSTART;TZID=Europe/Berlin:20290509T190000
DTEND;TZID=Europe/Berlin:20290510T000000
DTSTAMP:20260422T183415
CREATED:20250919T084108Z
LAST-MODIFIED:20260305T154730Z
UID:10015546-1873047600-1873065600@alteschule-hasselroth.de
SUMMARY:DRK Bereitschaftsdienst
DESCRIPTION:
URL:https://alteschule-hasselroth.de/event/drk-bereitschaftsdienst-2/2029-05-09/
LOCATION:Alte Schule\, Alte Dorfstraße 66\, Hasselroth\, Hessen\, 63594\, Germany
CATEGORIES:Neuenhaßlau
END:VEVENT
BEGIN:VEVENT
DTSTART;TZID=Europe/Berlin:20290512T140000
DTEND;TZID=Europe/Berlin:20290512T180000
DTSTAMP:20260422T183415
CREATED:20260316T060659Z
LAST-MODIFIED:20260316T060659Z
UID:10019770-1873288800-1873303200@alteschule-hasselroth.de
SUMMARY:DRK + JRK
DESCRIPTION:
URL:https://alteschule-hasselroth.de/event/drk-jrk/2029-05-12/
LOCATION:Alte Schule\, Alte Dorfstraße 66\, Hasselroth\, Hessen\, 63594\, Germany
CATEGORIES:Neuenhaßlau
END:VEVENT
BEGIN:VEVENT
DTSTART;TZID=Europe/Berlin:20290512T140000
DTEND;TZID=Europe/Berlin:20290512T190000
DTSTAMP:20260422T183415
CREATED:20260316T060548Z
LAST-MODIFIED:20260316T060548Z
UID:10014122-1873288800-1873306800@alteschule-hasselroth.de
SUMMARY:DRK + JRK
DESCRIPTION:
URL:https://alteschule-hasselroth.de/event/drk-jugend-4/2029-05-12/
LOCATION:Alte Schule\, Alte Dorfstraße 66\, Hasselroth\, Hessen\, 63594\, Germany
CATEGORIES:Gondsroth
END:VEVENT
BEGIN:VEVENT
DTSTART;TZID=Europe/Berlin:20290516T190000
DTEND;TZID=Europe/Berlin:20290517T000000
DTSTAMP:20260422T183415
CREATED:20250913T102808Z
LAST-MODIFIED:20260305T154617Z
UID:10015262-1873652400-1873670400@alteschule-hasselroth.de
SUMMARY:DRK Bereitschaftsdienst
DESCRIPTION:
URL:https://alteschule-hasselroth.de/event/drk-bereitschaftsdienst/2029-05-16/
LOCATION:Alte Schule\, Alte Dorfstraße 66\, Hasselroth\, Hessen\, 63594\, Germany
CATEGORIES:Gondsroth,Neuenhaßlau
END:VEVENT
BEGIN:VEVENT
DTSTART;TZID=Europe/Berlin:20290516T190000
DTEND;TZID=Europe/Berlin:20290517T000000
DTSTAMP:20260422T183415
CREATED:20250919T084108Z
LAST-MODIFIED:20260305T154730Z
UID:10015547-1873652400-1873670400@alteschule-hasselroth.de
SUMMARY:DRK Bereitschaftsdienst
DESCRIPTION:
URL:https://alteschule-hasselroth.de/event/drk-bereitschaftsdienst-2/2029-05-16/
LOCATION:Alte Schule\, Alte Dorfstraße 66\, Hasselroth\, Hessen\, 63594\, Germany
CATEGORIES:Neuenhaßlau
END:VEVENT
END:VCALENDAR