BEGIN:VCALENDAR
VERSION:2.0
PRODID:-//Aktionskreis aktives Niedermittlau e.V. - ECPv6.15.20//NONSGML v1.0//EN
CALSCALE:GREGORIAN
METHOD:PUBLISH
X-WR-CALNAME:Aktionskreis aktives Niedermittlau e.V.
X-ORIGINAL-URL:https://alteschule-hasselroth.de
X-WR-CALDESC:Veranstaltungen für Aktionskreis aktives Niedermittlau e.V.
REFRESH-INTERVAL;VALUE=DURATION:PT1H
X-Robots-Tag:noindex
X-PUBLISHED-TTL:PT1H
BEGIN:VTIMEZONE
TZID:Europe/Berlin
BEGIN:DAYLIGHT
TZOFFSETFROM:+0100
TZOFFSETTO:+0200
TZNAME:CEST
DTSTART:20250330T010000
END:DAYLIGHT
BEGIN:STANDARD
TZOFFSETFROM:+0200
TZOFFSETTO:+0100
TZNAME:CET
DTSTART:20251026T010000
END:STANDARD
BEGIN:DAYLIGHT
TZOFFSETFROM:+0100
TZOFFSETTO:+0200
TZNAME:CEST
DTSTART:20260329T010000
END:DAYLIGHT
BEGIN:STANDARD
TZOFFSETFROM:+0200
TZOFFSETTO:+0100
TZNAME:CET
DTSTART:20261025T010000
END:STANDARD
BEGIN:DAYLIGHT
TZOFFSETFROM:+0100
TZOFFSETTO:+0200
TZNAME:CEST
DTSTART:20270328T010000
END:DAYLIGHT
BEGIN:STANDARD
TZOFFSETFROM:+0200
TZOFFSETTO:+0100
TZNAME:CET
DTSTART:20271031T010000
END:STANDARD
END:VTIMEZONE
BEGIN:VEVENT
DTSTART;TZID=Europe/Berlin:20260418T083000
DTEND;TZID=Europe/Berlin:20260418T100000
DTSTAMP:20260420T122119
CREATED:20250901T131035Z
LAST-MODIFIED:20260310T211553Z
UID:10017909-1776501000-1776506400@alteschule-hasselroth.de
SUMMARY:TVN Yoga - Offen
DESCRIPTION:
URL:https://alteschule-hasselroth.de/event/tvn-yoga-offen/2026-04-18/
LOCATION:Alte Schule\, Alte Dorfstraße 66\, Hasselroth\, Hessen\, 63594\, Germany
CATEGORIES:Turnraum
END:VEVENT
BEGIN:VEVENT
DTSTART;TZID=Europe/Berlin:20260418T140000
DTEND;TZID=Europe/Berlin:20260418T180000
DTSTAMP:20260420T122119
CREATED:20260316T060659Z
LAST-MODIFIED:20260316T060659Z
UID:10019610-1776520800-1776535200@alteschule-hasselroth.de
SUMMARY:DRK + JRK
DESCRIPTION:
URL:https://alteschule-hasselroth.de/event/drk-jrk/2026-04-18/
LOCATION:Alte Schule\, Alte Dorfstraße 66\, Hasselroth\, Hessen\, 63594\, Germany
CATEGORIES:Neuenhaßlau
END:VEVENT
BEGIN:VEVENT
DTSTART;TZID=Europe/Berlin:20260418T140000
DTEND;TZID=Europe/Berlin:20260418T190000
DTSTAMP:20260420T122119
CREATED:20260316T060548Z
LAST-MODIFIED:20260316T060548Z
UID:10013962-1776520800-1776538800@alteschule-hasselroth.de
SUMMARY:DRK + JRK
DESCRIPTION:
URL:https://alteschule-hasselroth.de/event/drk-jugend-4/2026-04-18/
LOCATION:Alte Schule\, Alte Dorfstraße 66\, Hasselroth\, Hessen\, 63594\, Germany
CATEGORIES:Gondsroth
END:VEVENT
BEGIN:VEVENT
DTSTART;VALUE=DATE:20260418
DTEND;VALUE=DATE:20260420
DTSTAMP:20260420T122119
CREATED:20260121T161224Z
LAST-MODIFIED:20260122T084648Z
UID:10009626-1776553200-1776639599@alteschule-hasselroth.de
SUMMARY:Fotogruppe - Ausflug in das Sinntal
DESCRIPTION:Wir wollen die Schachblumen und den Judenfriedhof in Altengronau fotografieren \nAbfahrt evtl. früh um 7:30 Uhr an der alten Schule.
URL:https://alteschule-hasselroth.de/event/ausflug-in-das-sinntal/
LOCATION:OUTDOOR\, Germany
CATEGORIES:Ausflug
ATTACH;FMTTYPE=image/jpeg:https://alteschule-hasselroth.de/wp-content/uploads/2026/01/IMG-20240429-WA0004.jpg
ORGANIZER;CN="Fotogruppe":MAILTO:fotogruppe@alteschule-hasselroth.de
END:VEVENT
END:VCALENDAR