BEGIN:VCALENDAR
VERSION:2.0
PRODID:-//Aktionskreis aktives Niedermittlau e.V. - ECPv6.15.20//NONSGML v1.0//EN
CALSCALE:GREGORIAN
METHOD:PUBLISH
X-WR-CALNAME:Aktionskreis aktives Niedermittlau e.V.
X-ORIGINAL-URL:https://alteschule-hasselroth.de
X-WR-CALDESC:Veranstaltungen für Aktionskreis aktives Niedermittlau e.V.
REFRESH-INTERVAL;VALUE=DURATION:PT1H
X-Robots-Tag:noindex
X-PUBLISHED-TTL:PT1H
BEGIN:VTIMEZONE
TZID:Europe/Berlin
BEGIN:DAYLIGHT
TZOFFSETFROM:+0100
TZOFFSETTO:+0200
TZNAME:CEST
DTSTART:20250330T010000
END:DAYLIGHT
BEGIN:STANDARD
TZOFFSETFROM:+0200
TZOFFSETTO:+0100
TZNAME:CET
DTSTART:20251026T010000
END:STANDARD
BEGIN:DAYLIGHT
TZOFFSETFROM:+0100
TZOFFSETTO:+0200
TZNAME:CEST
DTSTART:20260329T010000
END:DAYLIGHT
BEGIN:STANDARD
TZOFFSETFROM:+0200
TZOFFSETTO:+0100
TZNAME:CET
DTSTART:20261025T010000
END:STANDARD
BEGIN:DAYLIGHT
TZOFFSETFROM:+0100
TZOFFSETTO:+0200
TZNAME:CEST
DTSTART:20270328T010000
END:DAYLIGHT
BEGIN:STANDARD
TZOFFSETFROM:+0200
TZOFFSETTO:+0100
TZNAME:CET
DTSTART:20271031T010000
END:STANDARD
END:VTIMEZONE
BEGIN:VEVENT
DTSTART;TZID=Europe/Berlin:20260908T190000
DTEND;TZID=Europe/Berlin:20260908T220000
DTSTAMP:20260422T133426
CREATED:20260202T084252Z
LAST-MODIFIED:20260202T084252Z
UID:10009679-1788894000-1788904800@alteschule-hasselroth.de
SUMMARY:Landfrauen
DESCRIPTION:
URL:https://alteschule-hasselroth.de/event/landfrauen-25/2026-09-08/
LOCATION:Alte Schule\, Alte Dorfstraße 66\, Hasselroth\, Hessen\, 63594\, Germany
CATEGORIES:Hasselroth
ATTACH;FMTTYPE=image/jpeg:https://alteschule-hasselroth.de/wp-content/uploads/2025/08/Logo_landfrauen_niedermittlau.jpg
END:VEVENT
BEGIN:VEVENT
DTSTART;TZID=Europe/Berlin:20260922T190000
DTEND;TZID=Europe/Berlin:20260922T220000
DTSTAMP:20260422T133426
CREATED:20260202T084252Z
LAST-MODIFIED:20260202T084252Z
UID:10009680-1790103600-1790114400@alteschule-hasselroth.de
SUMMARY:Landfrauen
DESCRIPTION:
URL:https://alteschule-hasselroth.de/event/landfrauen-25/2026-09-22/
LOCATION:Alte Schule\, Alte Dorfstraße 66\, Hasselroth\, Hessen\, 63594\, Germany
CATEGORIES:Hasselroth
ATTACH;FMTTYPE=image/jpeg:https://alteschule-hasselroth.de/wp-content/uploads/2025/08/Logo_landfrauen_niedermittlau.jpg
END:VEVENT
BEGIN:VEVENT
DTSTART;TZID=Europe/Berlin:20261006T190000
DTEND;TZID=Europe/Berlin:20261006T220000
DTSTAMP:20260422T133426
CREATED:20260202T084252Z
LAST-MODIFIED:20260202T084252Z
UID:10009681-1791313200-1791324000@alteschule-hasselroth.de
SUMMARY:Landfrauen
DESCRIPTION:
URL:https://alteschule-hasselroth.de/event/landfrauen-25/2026-10-06/
LOCATION:Alte Schule\, Alte Dorfstraße 66\, Hasselroth\, Hessen\, 63594\, Germany
CATEGORIES:Hasselroth
ATTACH;FMTTYPE=image/jpeg:https://alteschule-hasselroth.de/wp-content/uploads/2025/08/Logo_landfrauen_niedermittlau.jpg
END:VEVENT
BEGIN:VEVENT
DTSTART;TZID=Europe/Berlin:20261020T190000
DTEND;TZID=Europe/Berlin:20261020T220000
DTSTAMP:20260422T133426
CREATED:20260202T084252Z
LAST-MODIFIED:20260202T084252Z
UID:10009682-1792522800-1792533600@alteschule-hasselroth.de
SUMMARY:Landfrauen
DESCRIPTION:
URL:https://alteschule-hasselroth.de/event/landfrauen-25/2026-10-20/
LOCATION:Alte Schule\, Alte Dorfstraße 66\, Hasselroth\, Hessen\, 63594\, Germany
CATEGORIES:Hasselroth
ATTACH;FMTTYPE=image/jpeg:https://alteschule-hasselroth.de/wp-content/uploads/2025/08/Logo_landfrauen_niedermittlau.jpg
END:VEVENT
BEGIN:VEVENT
DTSTART;TZID=Europe/Berlin:20261103T190000
DTEND;TZID=Europe/Berlin:20261103T220000
DTSTAMP:20260422T133426
CREATED:20260202T084252Z
LAST-MODIFIED:20260202T084252Z
UID:10009683-1793732400-1793743200@alteschule-hasselroth.de
SUMMARY:Landfrauen
DESCRIPTION:
URL:https://alteschule-hasselroth.de/event/landfrauen-25/2026-11-03/
LOCATION:Alte Schule\, Alte Dorfstraße 66\, Hasselroth\, Hessen\, 63594\, Germany
CATEGORIES:Hasselroth
ATTACH;FMTTYPE=image/jpeg:https://alteschule-hasselroth.de/wp-content/uploads/2025/08/Logo_landfrauen_niedermittlau.jpg
END:VEVENT
BEGIN:VEVENT
DTSTART;TZID=Europe/Berlin:20261117T190000
DTEND;TZID=Europe/Berlin:20261117T220000
DTSTAMP:20260422T133426
CREATED:20260202T084252Z
LAST-MODIFIED:20260202T084252Z
UID:10009684-1794942000-1794952800@alteschule-hasselroth.de
SUMMARY:Landfrauen
DESCRIPTION:
URL:https://alteschule-hasselroth.de/event/landfrauen-25/2026-11-17/
LOCATION:Alte Schule\, Alte Dorfstraße 66\, Hasselroth\, Hessen\, 63594\, Germany
CATEGORIES:Hasselroth
ATTACH;FMTTYPE=image/jpeg:https://alteschule-hasselroth.de/wp-content/uploads/2025/08/Logo_landfrauen_niedermittlau.jpg
END:VEVENT
END:VCALENDAR