BEGIN:VCALENDAR
VERSION:2.0
PRODID:-//Aktionskreis aktives Niedermittlau e.V. - ECPv6.15.20//NONSGML v1.0//EN
CALSCALE:GREGORIAN
METHOD:PUBLISH
X-WR-CALNAME:Aktionskreis aktives Niedermittlau e.V.
X-ORIGINAL-URL:https://alteschule-hasselroth.de
X-WR-CALDESC:Veranstaltungen für Aktionskreis aktives Niedermittlau e.V.
REFRESH-INTERVAL;VALUE=DURATION:PT1H
X-Robots-Tag:noindex
X-PUBLISHED-TTL:PT1H
BEGIN:VTIMEZONE
TZID:Europe/Berlin
BEGIN:DAYLIGHT
TZOFFSETFROM:+0100
TZOFFSETTO:+0200
TZNAME:CEST
DTSTART:20250330T010000
END:DAYLIGHT
BEGIN:STANDARD
TZOFFSETFROM:+0200
TZOFFSETTO:+0100
TZNAME:CET
DTSTART:20251026T010000
END:STANDARD
BEGIN:DAYLIGHT
TZOFFSETFROM:+0100
TZOFFSETTO:+0200
TZNAME:CEST
DTSTART:20260329T010000
END:DAYLIGHT
BEGIN:STANDARD
TZOFFSETFROM:+0200
TZOFFSETTO:+0100
TZNAME:CET
DTSTART:20261025T010000
END:STANDARD
BEGIN:DAYLIGHT
TZOFFSETFROM:+0100
TZOFFSETTO:+0200
TZNAME:CEST
DTSTART:20270328T010000
END:DAYLIGHT
BEGIN:STANDARD
TZOFFSETFROM:+0200
TZOFFSETTO:+0100
TZNAME:CET
DTSTART:20271031T010000
END:STANDARD
END:VTIMEZONE
BEGIN:VEVENT
DTSTART;TZID=Europe/Berlin:20260429T211500
DTEND;TZID=Europe/Berlin:20260429T230000
DTSTAMP:20260424T131524
CREATED:20260422T193332Z
LAST-MODIFIED:20260422T193332Z
UID:10022812-1777497300-1777503600@alteschule-hasselroth.de
SUMMARY:TSC Meddeler Feger
DESCRIPTION:
URL:https://alteschule-hasselroth.de/event/tsc-meddeler-feger-3/2026-04-29/
LOCATION:Alte Schule\, Alte Dorfstraße 66\, Hasselroth\, Hessen\, 63594\, Germany
CATEGORIES:Turnraum
END:VEVENT
BEGIN:VEVENT
DTSTART;TZID=Europe/Berlin:20260506T211500
DTEND;TZID=Europe/Berlin:20260506T230000
DTSTAMP:20260424T131524
CREATED:20260422T193332Z
LAST-MODIFIED:20260422T193332Z
UID:10022813-1778102100-1778108400@alteschule-hasselroth.de
SUMMARY:TSC Meddeler Feger
DESCRIPTION:
URL:https://alteschule-hasselroth.de/event/tsc-meddeler-feger-3/2026-05-06/
LOCATION:Alte Schule\, Alte Dorfstraße 66\, Hasselroth\, Hessen\, 63594\, Germany
CATEGORIES:Turnraum
END:VEVENT
BEGIN:VEVENT
DTSTART;TZID=Europe/Berlin:20260513T211500
DTEND;TZID=Europe/Berlin:20260513T230000
DTSTAMP:20260424T131524
CREATED:20260422T193332Z
LAST-MODIFIED:20260422T193332Z
UID:10022814-1778706900-1778713200@alteschule-hasselroth.de
SUMMARY:TSC Meddeler Feger
DESCRIPTION:
URL:https://alteschule-hasselroth.de/event/tsc-meddeler-feger-3/2026-05-13/
LOCATION:Alte Schule\, Alte Dorfstraße 66\, Hasselroth\, Hessen\, 63594\, Germany
CATEGORIES:Turnraum
END:VEVENT
BEGIN:VEVENT
DTSTART;TZID=Europe/Berlin:20260520T211500
DTEND;TZID=Europe/Berlin:20260520T230000
DTSTAMP:20260424T131524
CREATED:20260422T193332Z
LAST-MODIFIED:20260422T193332Z
UID:10022815-1779311700-1779318000@alteschule-hasselroth.de
SUMMARY:TSC Meddeler Feger
DESCRIPTION:
URL:https://alteschule-hasselroth.de/event/tsc-meddeler-feger-3/2026-05-20/
LOCATION:Alte Schule\, Alte Dorfstraße 66\, Hasselroth\, Hessen\, 63594\, Germany
CATEGORIES:Turnraum
END:VEVENT
BEGIN:VEVENT
DTSTART;TZID=Europe/Berlin:20260527T211500
DTEND;TZID=Europe/Berlin:20260527T230000
DTSTAMP:20260424T131524
CREATED:20260422T193332Z
LAST-MODIFIED:20260422T193332Z
UID:10022816-1779916500-1779922800@alteschule-hasselroth.de
SUMMARY:TSC Meddeler Feger
DESCRIPTION:
URL:https://alteschule-hasselroth.de/event/tsc-meddeler-feger-3/2026-05-27/
LOCATION:Alte Schule\, Alte Dorfstraße 66\, Hasselroth\, Hessen\, 63594\, Germany
CATEGORIES:Turnraum
END:VEVENT
BEGIN:VEVENT
DTSTART;TZID=Europe/Berlin:20260603T211500
DTEND;TZID=Europe/Berlin:20260603T230000
DTSTAMP:20260424T131524
CREATED:20260422T193332Z
LAST-MODIFIED:20260422T193332Z
UID:10022817-1780521300-1780527600@alteschule-hasselroth.de
SUMMARY:TSC Meddeler Feger
DESCRIPTION:
URL:https://alteschule-hasselroth.de/event/tsc-meddeler-feger-3/2026-06-03/
LOCATION:Alte Schule\, Alte Dorfstraße 66\, Hasselroth\, Hessen\, 63594\, Germany
CATEGORIES:Turnraum
END:VEVENT
BEGIN:VEVENT
DTSTART;TZID=Europe/Berlin:20260610T211500
DTEND;TZID=Europe/Berlin:20260610T230000
DTSTAMP:20260424T131524
CREATED:20260422T193332Z
LAST-MODIFIED:20260422T193332Z
UID:10022818-1781126100-1781132400@alteschule-hasselroth.de
SUMMARY:TSC Meddeler Feger
DESCRIPTION:
URL:https://alteschule-hasselroth.de/event/tsc-meddeler-feger-3/2026-06-10/
LOCATION:Alte Schule\, Alte Dorfstraße 66\, Hasselroth\, Hessen\, 63594\, Germany
CATEGORIES:Turnraum
END:VEVENT
BEGIN:VEVENT
DTSTART;TZID=Europe/Berlin:20260617T211500
DTEND;TZID=Europe/Berlin:20260617T230000
DTSTAMP:20260424T131525
CREATED:20260422T193332Z
LAST-MODIFIED:20260422T193332Z
UID:10022819-1781730900-1781737200@alteschule-hasselroth.de
SUMMARY:TSC Meddeler Feger
DESCRIPTION:
URL:https://alteschule-hasselroth.de/event/tsc-meddeler-feger-3/2026-06-17/
LOCATION:Alte Schule\, Alte Dorfstraße 66\, Hasselroth\, Hessen\, 63594\, Germany
CATEGORIES:Turnraum
END:VEVENT
BEGIN:VEVENT
DTSTART;TZID=Europe/Berlin:20260624T211500
DTEND;TZID=Europe/Berlin:20260624T230000
DTSTAMP:20260424T131525
CREATED:20260422T193332Z
LAST-MODIFIED:20260422T193332Z
UID:10022820-1782335700-1782342000@alteschule-hasselroth.de
SUMMARY:TSC Meddeler Feger
DESCRIPTION:
URL:https://alteschule-hasselroth.de/event/tsc-meddeler-feger-3/2026-06-24/
LOCATION:Alte Schule\, Alte Dorfstraße 66\, Hasselroth\, Hessen\, 63594\, Germany
CATEGORIES:Turnraum
END:VEVENT
BEGIN:VEVENT
DTSTART;TZID=Europe/Berlin:20260701T211500
DTEND;TZID=Europe/Berlin:20260701T230000
DTSTAMP:20260424T131525
CREATED:20260422T193332Z
LAST-MODIFIED:20260422T193332Z
UID:10022821-1782940500-1782946800@alteschule-hasselroth.de
SUMMARY:TSC Meddeler Feger
DESCRIPTION:
URL:https://alteschule-hasselroth.de/event/tsc-meddeler-feger-3/2026-07-01/
LOCATION:Alte Schule\, Alte Dorfstraße 66\, Hasselroth\, Hessen\, 63594\, Germany
CATEGORIES:Turnraum
END:VEVENT
BEGIN:VEVENT
DTSTART;TZID=Europe/Berlin:20260708T211500
DTEND;TZID=Europe/Berlin:20260708T230000
DTSTAMP:20260424T131525
CREATED:20260422T193332Z
LAST-MODIFIED:20260422T193332Z
UID:10022822-1783545300-1783551600@alteschule-hasselroth.de
SUMMARY:TSC Meddeler Feger
DESCRIPTION:
URL:https://alteschule-hasselroth.de/event/tsc-meddeler-feger-3/2026-07-08/
LOCATION:Alte Schule\, Alte Dorfstraße 66\, Hasselroth\, Hessen\, 63594\, Germany
CATEGORIES:Turnraum
END:VEVENT
BEGIN:VEVENT
DTSTART;TZID=Europe/Berlin:20260715T211500
DTEND;TZID=Europe/Berlin:20260715T230000
DTSTAMP:20260424T131525
CREATED:20260422T193332Z
LAST-MODIFIED:20260422T193332Z
UID:10022823-1784150100-1784156400@alteschule-hasselroth.de
SUMMARY:TSC Meddeler Feger
DESCRIPTION:
URL:https://alteschule-hasselroth.de/event/tsc-meddeler-feger-3/2026-07-15/
LOCATION:Alte Schule\, Alte Dorfstraße 66\, Hasselroth\, Hessen\, 63594\, Germany
CATEGORIES:Turnraum
END:VEVENT
BEGIN:VEVENT
DTSTART;TZID=Europe/Berlin:20260722T211500
DTEND;TZID=Europe/Berlin:20260722T230000
DTSTAMP:20260424T131525
CREATED:20260422T193332Z
LAST-MODIFIED:20260422T193332Z
UID:10022824-1784754900-1784761200@alteschule-hasselroth.de
SUMMARY:TSC Meddeler Feger
DESCRIPTION:
URL:https://alteschule-hasselroth.de/event/tsc-meddeler-feger-3/2026-07-22/
LOCATION:Alte Schule\, Alte Dorfstraße 66\, Hasselroth\, Hessen\, 63594\, Germany
CATEGORIES:Turnraum
END:VEVENT
BEGIN:VEVENT
DTSTART;TZID=Europe/Berlin:20260729T211500
DTEND;TZID=Europe/Berlin:20260729T230000
DTSTAMP:20260424T131525
CREATED:20260422T193332Z
LAST-MODIFIED:20260422T193332Z
UID:10022825-1785359700-1785366000@alteschule-hasselroth.de
SUMMARY:TSC Meddeler Feger
DESCRIPTION:
URL:https://alteschule-hasselroth.de/event/tsc-meddeler-feger-3/2026-07-29/
LOCATION:Alte Schule\, Alte Dorfstraße 66\, Hasselroth\, Hessen\, 63594\, Germany
CATEGORIES:Turnraum
END:VEVENT
BEGIN:VEVENT
DTSTART;TZID=Europe/Berlin:20260805T211500
DTEND;TZID=Europe/Berlin:20260805T230000
DTSTAMP:20260424T131525
CREATED:20260422T193332Z
LAST-MODIFIED:20260422T193332Z
UID:10022826-1785964500-1785970800@alteschule-hasselroth.de
SUMMARY:TSC Meddeler Feger
DESCRIPTION:
URL:https://alteschule-hasselroth.de/event/tsc-meddeler-feger-3/2026-08-05/
LOCATION:Alte Schule\, Alte Dorfstraße 66\, Hasselroth\, Hessen\, 63594\, Germany
CATEGORIES:Turnraum
END:VEVENT
BEGIN:VEVENT
DTSTART;TZID=Europe/Berlin:20260812T211500
DTEND;TZID=Europe/Berlin:20260812T230000
DTSTAMP:20260424T131525
CREATED:20260422T193332Z
LAST-MODIFIED:20260422T193332Z
UID:10022827-1786569300-1786575600@alteschule-hasselroth.de
SUMMARY:TSC Meddeler Feger
DESCRIPTION:
URL:https://alteschule-hasselroth.de/event/tsc-meddeler-feger-3/2026-08-12/
LOCATION:Alte Schule\, Alte Dorfstraße 66\, Hasselroth\, Hessen\, 63594\, Germany
CATEGORIES:Turnraum
END:VEVENT
BEGIN:VEVENT
DTSTART;TZID=Europe/Berlin:20260819T211500
DTEND;TZID=Europe/Berlin:20260819T230000
DTSTAMP:20260424T131525
CREATED:20260422T193332Z
LAST-MODIFIED:20260422T193332Z
UID:10022828-1787174100-1787180400@alteschule-hasselroth.de
SUMMARY:TSC Meddeler Feger
DESCRIPTION:
URL:https://alteschule-hasselroth.de/event/tsc-meddeler-feger-3/2026-08-19/
LOCATION:Alte Schule\, Alte Dorfstraße 66\, Hasselroth\, Hessen\, 63594\, Germany
CATEGORIES:Turnraum
END:VEVENT
BEGIN:VEVENT
DTSTART;TZID=Europe/Berlin:20260826T211500
DTEND;TZID=Europe/Berlin:20260826T230000
DTSTAMP:20260424T131525
CREATED:20260422T193332Z
LAST-MODIFIED:20260422T193332Z
UID:10022829-1787778900-1787785200@alteschule-hasselroth.de
SUMMARY:TSC Meddeler Feger
DESCRIPTION:
URL:https://alteschule-hasselroth.de/event/tsc-meddeler-feger-3/2026-08-26/
LOCATION:Alte Schule\, Alte Dorfstraße 66\, Hasselroth\, Hessen\, 63594\, Germany
CATEGORIES:Turnraum
END:VEVENT
BEGIN:VEVENT
DTSTART;TZID=Europe/Berlin:20260902T211500
DTEND;TZID=Europe/Berlin:20260902T230000
DTSTAMP:20260424T131525
CREATED:20260422T193332Z
LAST-MODIFIED:20260422T193332Z
UID:10022830-1788383700-1788390000@alteschule-hasselroth.de
SUMMARY:TSC Meddeler Feger
DESCRIPTION:
URL:https://alteschule-hasselroth.de/event/tsc-meddeler-feger-3/2026-09-02/
LOCATION:Alte Schule\, Alte Dorfstraße 66\, Hasselroth\, Hessen\, 63594\, Germany
CATEGORIES:Turnraum
END:VEVENT
BEGIN:VEVENT
DTSTART;TZID=Europe/Berlin:20260909T211500
DTEND;TZID=Europe/Berlin:20260909T230000
DTSTAMP:20260424T131525
CREATED:20260422T193332Z
LAST-MODIFIED:20260422T193332Z
UID:10022831-1788988500-1788994800@alteschule-hasselroth.de
SUMMARY:TSC Meddeler Feger
DESCRIPTION:
URL:https://alteschule-hasselroth.de/event/tsc-meddeler-feger-3/2026-09-09/
LOCATION:Alte Schule\, Alte Dorfstraße 66\, Hasselroth\, Hessen\, 63594\, Germany
CATEGORIES:Turnraum
END:VEVENT
BEGIN:VEVENT
DTSTART;TZID=Europe/Berlin:20260916T211500
DTEND;TZID=Europe/Berlin:20260916T230000
DTSTAMP:20260424T131525
CREATED:20260422T193332Z
LAST-MODIFIED:20260422T193332Z
UID:10022832-1789593300-1789599600@alteschule-hasselroth.de
SUMMARY:TSC Meddeler Feger
DESCRIPTION:
URL:https://alteschule-hasselroth.de/event/tsc-meddeler-feger-3/2026-09-16/
LOCATION:Alte Schule\, Alte Dorfstraße 66\, Hasselroth\, Hessen\, 63594\, Germany
CATEGORIES:Turnraum
END:VEVENT
BEGIN:VEVENT
DTSTART;TZID=Europe/Berlin:20260923T211500
DTEND;TZID=Europe/Berlin:20260923T230000
DTSTAMP:20260424T131525
CREATED:20260422T193332Z
LAST-MODIFIED:20260422T193332Z
UID:10022833-1790198100-1790204400@alteschule-hasselroth.de
SUMMARY:TSC Meddeler Feger
DESCRIPTION:
URL:https://alteschule-hasselroth.de/event/tsc-meddeler-feger-3/2026-09-23/
LOCATION:Alte Schule\, Alte Dorfstraße 66\, Hasselroth\, Hessen\, 63594\, Germany
CATEGORIES:Turnraum
END:VEVENT
BEGIN:VEVENT
DTSTART;TZID=Europe/Berlin:20260930T211500
DTEND;TZID=Europe/Berlin:20260930T230000
DTSTAMP:20260424T131525
CREATED:20260422T193332Z
LAST-MODIFIED:20260422T193332Z
UID:10022834-1790802900-1790809200@alteschule-hasselroth.de
SUMMARY:TSC Meddeler Feger
DESCRIPTION:
URL:https://alteschule-hasselroth.de/event/tsc-meddeler-feger-3/2026-09-30/
LOCATION:Alte Schule\, Alte Dorfstraße 66\, Hasselroth\, Hessen\, 63594\, Germany
CATEGORIES:Turnraum
END:VEVENT
BEGIN:VEVENT
DTSTART;TZID=Europe/Berlin:20261007T211500
DTEND;TZID=Europe/Berlin:20261007T230000
DTSTAMP:20260424T131525
CREATED:20260422T193332Z
LAST-MODIFIED:20260422T193332Z
UID:10022835-1791407700-1791414000@alteschule-hasselroth.de
SUMMARY:TSC Meddeler Feger
DESCRIPTION:
URL:https://alteschule-hasselroth.de/event/tsc-meddeler-feger-3/2026-10-07/
LOCATION:Alte Schule\, Alte Dorfstraße 66\, Hasselroth\, Hessen\, 63594\, Germany
CATEGORIES:Turnraum
END:VEVENT
BEGIN:VEVENT
DTSTART;TZID=Europe/Berlin:20261014T211500
DTEND;TZID=Europe/Berlin:20261014T230000
DTSTAMP:20260424T131525
CREATED:20260422T193332Z
LAST-MODIFIED:20260422T193332Z
UID:10022836-1792012500-1792018800@alteschule-hasselroth.de
SUMMARY:TSC Meddeler Feger
DESCRIPTION:
URL:https://alteschule-hasselroth.de/event/tsc-meddeler-feger-3/2026-10-14/
LOCATION:Alte Schule\, Alte Dorfstraße 66\, Hasselroth\, Hessen\, 63594\, Germany
CATEGORIES:Turnraum
END:VEVENT
BEGIN:VEVENT
DTSTART;TZID=Europe/Berlin:20261021T211500
DTEND;TZID=Europe/Berlin:20261021T230000
DTSTAMP:20260424T131525
CREATED:20260422T193332Z
LAST-MODIFIED:20260422T193332Z
UID:10022837-1792617300-1792623600@alteschule-hasselroth.de
SUMMARY:TSC Meddeler Feger
DESCRIPTION:
URL:https://alteschule-hasselroth.de/event/tsc-meddeler-feger-3/2026-10-21/
LOCATION:Alte Schule\, Alte Dorfstraße 66\, Hasselroth\, Hessen\, 63594\, Germany
CATEGORIES:Turnraum
END:VEVENT
BEGIN:VEVENT
DTSTART;TZID=Europe/Berlin:20261028T211500
DTEND;TZID=Europe/Berlin:20261028T230000
DTSTAMP:20260424T131525
CREATED:20260422T193332Z
LAST-MODIFIED:20260422T193332Z
UID:10022838-1793222100-1793228400@alteschule-hasselroth.de
SUMMARY:TSC Meddeler Feger
DESCRIPTION:
URL:https://alteschule-hasselroth.de/event/tsc-meddeler-feger-3/2026-10-28/
LOCATION:Alte Schule\, Alte Dorfstraße 66\, Hasselroth\, Hessen\, 63594\, Germany
CATEGORIES:Turnraum
END:VEVENT
BEGIN:VEVENT
DTSTART;TZID=Europe/Berlin:20261104T211500
DTEND;TZID=Europe/Berlin:20261104T230000
DTSTAMP:20260424T131525
CREATED:20260422T193332Z
LAST-MODIFIED:20260422T193332Z
UID:10022839-1793826900-1793833200@alteschule-hasselroth.de
SUMMARY:TSC Meddeler Feger
DESCRIPTION:
URL:https://alteschule-hasselroth.de/event/tsc-meddeler-feger-3/2026-11-04/
LOCATION:Alte Schule\, Alte Dorfstraße 66\, Hasselroth\, Hessen\, 63594\, Germany
CATEGORIES:Turnraum
END:VEVENT
BEGIN:VEVENT
DTSTART;TZID=Europe/Berlin:20261111T211500
DTEND;TZID=Europe/Berlin:20261111T230000
DTSTAMP:20260424T131525
CREATED:20260422T193332Z
LAST-MODIFIED:20260422T193332Z
UID:10022840-1794431700-1794438000@alteschule-hasselroth.de
SUMMARY:TSC Meddeler Feger
DESCRIPTION:
URL:https://alteschule-hasselroth.de/event/tsc-meddeler-feger-3/2026-11-11/
LOCATION:Alte Schule\, Alte Dorfstraße 66\, Hasselroth\, Hessen\, 63594\, Germany
CATEGORIES:Turnraum
END:VEVENT
BEGIN:VEVENT
DTSTART;TZID=Europe/Berlin:20261118T211500
DTEND;TZID=Europe/Berlin:20261118T230000
DTSTAMP:20260424T131525
CREATED:20260422T193332Z
LAST-MODIFIED:20260422T193332Z
UID:10022841-1795036500-1795042800@alteschule-hasselroth.de
SUMMARY:TSC Meddeler Feger
DESCRIPTION:
URL:https://alteschule-hasselroth.de/event/tsc-meddeler-feger-3/2026-11-18/
LOCATION:Alte Schule\, Alte Dorfstraße 66\, Hasselroth\, Hessen\, 63594\, Germany
CATEGORIES:Turnraum
END:VEVENT
END:VCALENDAR